BEGIN:VCALENDAR
VERSION:2.0
PRODID:-//eventon.com NONSGML v1.0//EN
BEGIN:VEVENT
UID:69ed210203547
DTSTAMP:20260425T211602
DTSTART:20200201T083000Z
DTEND:20200201T120000Z
LOCATION:El Prat de Llobregat Plaça de l'Església s/n
SUMMARY:Curs Bàsic de Voluntariat a El Prat
DESCRIPTION: Curs bàsic de Voluntariat\,  adreçat als nous voluntaris de Càritas que s'han incorporat recentment o que encara no l'hagin realitzat. ✏ Inscriu-te al curs ➡ Descarrega't el tríptic del curs
END:VEVENT
END:VCALENDAR