BEGIN:VCALENDAR
VERSION:2.0
PRODID:-//eventon.com NONSGML v1.0//EN
BEGIN:VEVENT
UID:69e99ffcce250
DTSTAMP:20260423T052844
DTSTART:20221109T083000Z
DTEND:20221109T120000Z
LOCATION:Sitges Plaça Sant Joan Baptista s/n
SUMMARY:Curs bàsic de voluntariat a Sitges
DESCRIPTION: Curs bàsic de Voluntariat\,  adreçat als nous voluntaris de Càritas que s'han incorporat recentment o que encara no l'hagin realitzat.
END:VEVENT
END:VCALENDAR