BEGIN:VCALENDAR
VERSION:2.0
PRODID:-//eventon.com NONSGML v1.0//EN
BEGIN:VEVENT
UID:69ea09fed5f70
DTSTAMP:20260423T130102
DTSTART:20241210T150000Z
DTEND:20241210T190000Z
LOCATION:Casa de l'Esglèsia C/ d'Armenteres 35
SUMMARY:Formació Obrim camins d'esperança i fem comunitat (Sant Feliu de Llobregat)
DESCRIPTION: La formació "Obrim camins d'esperança i fem comunitat" vol ser un espai per poder parlar entre nosaltres\,  voluntariat i persones contractades de Càritas\,  de com entenem l'animació comunitària des de la nostra Missió\,  aterrant en allò concret que precisament entre tots i totes hem deixat definit en el nou Pla[..]
END:VEVENT
END:VCALENDAR