BEGIN:VCALENDAR
VERSION:2.0
PRODID:-//eventon.com NONSGML v1.0//EN
BEGIN:VEVENT
UID:69e9ee4de290b
DTSTAMP:20260423T110253
DTSTART:20250319T153000Z
DTEND:20250319T183000Z
LOCATION:Parròquia de Santa Maria Plaça Santa Maria\,  1
SUMMARY:Curs bàsic de voluntariat a Cubelles
DESCRIPTION: Curs bàsic de Voluntariat\,  adreçat als nous voluntaris de Càritas que s'han incorporat recentment o que encara no l'hagin realitzat.
END:VEVENT
END:VCALENDAR