BEGIN:VCALENDAR
VERSION:2.0
PRODID:-//eventon.com NONSGML v1.0//EN
BEGIN:VEVENT
UID:69e7372fd6996
DTSTAMP:20260421T093703
DTSTART:20250326T150000Z
DTEND:20250326T183000Z
LOCATION:Parròquia de Santa Maria de Cubelles Plaza Santa Maria\,  1
SUMMARY:Curso básico de voluntariado en Cubelles
DESCRIPTION: Curso básico de Voluntariado\,  dirigido a los nuevos voluntarios de Cáritas que se han incorporado recientemente o que todavía no lo hayan realizado.
END:VEVENT
END:VCALENDAR