BEGIN:VCALENDAR
VERSION:2.0
PRODID:-//eventon.com NONSGML v1.0//EN
BEGIN:VEVENT
UID:69e73a8081054
DTSTAMP:20260421T095112
DTSTART:20250408T173000Z
DTEND:20250408T190000Z
LOCATION:Online 
SUMMARY:Curso básico de voluntariado online marzo 2025
DESCRIPTION: Curso básico de Voluntariado\,  dirigido a los nuevos voluntarios de Cáritas que se han incorporado recientemente o que todavía no lo hayan realizado.
END:VEVENT
END:VCALENDAR