BEGIN:VCALENDAR
VERSION:2.0
PRODID:-//eventon.com NONSGML v1.0//EN
BEGIN:VEVENT
UID:69e734542c5c7
DTSTAMP:20260421T092452
DTSTART:20250507T180000Z
DTEND:20250507T193000Z
LOCATION:Forum Berger Balaguer Rambla de Nostra Senyora\,  6
SUMMARY:Proyección del documental "13 veus. Una realitat: El sensellarisme"
DESCRIPTION: El próximo 7 de mayo a las 19 h\,  en el Fórum Berger (Fundación Pinnae) de Vilafranca del Penedès\,  tendrá lugar un evento muy especial: la proyección de un documental elaborado por jóvenes voluntarios de Cáritas que pone rostro y voz a una de las problemáticas sociales más invisibilizadas: el[..]
END:VEVENT
END:VCALENDAR