BEGIN:VCALENDAR
VERSION:2.0
PRODID:-//eventon.com NONSGML v1.0//EN
BEGIN:VEVENT
UID:69e60d7cf2cd6
DTSTAMP:20260420T122652
DTSTART:20260321T090000Z
DTEND:20260321T123000Z
LOCATION:Cristianisme i Justícia C/ Roger de Llúria\,  13
SUMMARY:Jornada: Lectura creient de l’Informe FOESSA
DESCRIPTION: En les darreres dècades\,  Catalunya ha viscut una transformació social marcada per l’augment de la desigualtat i l’exclusió. L’informe mostra una societat cada vegada més fragmentada. Allà on la indiferència manté obertes les ferides\,  som cridats a ser esperança. L’estudi posa paraules i dades a una realitat que ens interpel·la[..]
END:VEVENT
END:VCALENDAR